BEGIN:VCALENDAR
VERSION:2.0
PRODID:-//eventon.com NONSGML v1.0//EN
BEGIN:VEVENT
UID:69e7304ae7b1f
DTSTAMP:20260421T080738
DTSTART:20240316T190000Z
DTEND:20240316T235000Z
LOCATION:Schwarzwaldhalle Bühl Ludwig-Jahn-Straße 8
SUMMARY:TV Bühl II - USC Konstanz
DESCRIPTION: TV Bühl II - USC Konstanz
URL:https://usc-konstanz.de/events/tv-buehl-ii-usc-konstanz/
END:VEVENT
END:VCALENDAR